BEGIN:VCALENDAR
VERSION:2.0
PRODID:-//wp-events-plugin.com//7.2.3.1//EN
TZID:Europe/Berlin
X-WR-TIMEZONE:Europe/Berlin
BEGIN:VEVENT
UID:7@mercedes-v-club.de
DTSTART;TZID=Europe/Berlin:20260321T090000
DTEND;TZID=Europe/Berlin:20260321T220000
DTSTAMP:20260313T132230Z
URL:https://www.mercedes-v-club.de/veranstaltungen/technik-tag-2026/
SUMMARY:Technik-Tag 2026
DESCRIPTION:Weitere Infos sind in unserem Forum zu finden:  Technik-Tag 20
 26
CATEGORIES:Schrauber-Treffen
LOCATION:Tommis Autoservice\, Gosberger Str. 27\, 91361 Gosberg\, Bayern\, 
 Deutschland
X-APPLE-STRUCTURED-LOCATION;VALUE=URI;X-ADDRESS=Gosberger Str. 27\, 91361 G
 osberg\, Bayern\, Deutschland;X-APPLE-RADIUS=100;X-TITLE=Tommis Autoservic
 e:geo:0,0
END:VEVENT
BEGIN:VTIMEZONE
TZID:Europe/Berlin
X-LIC-LOCATION:Europe/Berlin
BEGIN:STANDARD
DTSTART:20251026T020000
TZOFFSETFROM:+0200
TZOFFSETTO:+0100
TZNAME:CET
END:STANDARD
END:VTIMEZONE
END:VCALENDAR