BEGIN:VCALENDAR
VERSION:2.0
PRODID:-//wp-events-plugin.com//7.2.3.1//EN
TZID:Europe/Berlin
X-WR-TIMEZONE:Europe/Berlin
BEGIN:VEVENT
UID:6@mercedes-v-club.de
DTSTART;TZID=Europe/Berlin;VALUE=DATE:20261023
DTEND;TZID=Europe/Berlin;VALUE=DATE:20261026
DTSTAMP:20251125T052157Z
URL:https://www.mercedes-v-club.de/veranstaltungen/herbsttreffen-2026/
SUMMARY:Herbsttreffen 2026
DESCRIPTION:Weitere Infos sind in unserem Forum zu finden: 11. Herbsttreffe
 n 2026 in Bayern
CATEGORIES:Treffen
LOCATION:Campingplatz "Via Claudia Camping"\, Via Claudia 6\, 86983 Lechbru
 ck am See\, Bayern\, Deutschland
X-APPLE-STRUCTURED-LOCATION;VALUE=URI;X-ADDRESS=Via Claudia 6\, 86983 Lechb
 ruck am See\, Bayern\, Deutschland;X-APPLE-RADIUS=100;X-TITLE=Campingplatz
  \"Via Claudia Camping\":geo:0,0
END:VEVENT
BEGIN:VTIMEZONE
TZID:Europe/Berlin
X-LIC-LOCATION:Europe/Berlin
BEGIN:DAYLIGHT
DTSTART:20260329T030000
TZOFFSETFROM:+0100
TZOFFSETTO:+0200
TZNAME:CEST
END:DAYLIGHT
BEGIN:STANDARD
DTSTART:20261025T020000
TZOFFSETFROM:+0200
TZOFFSETTO:+0100
TZNAME:CET
END:STANDARD
END:VTIMEZONE
END:VCALENDAR