BEGIN:VCALENDAR
VERSION:2.0
PRODID:-//wp-events-plugin.com//7.2.3.1//EN
TZID:Europe/Berlin
X-WR-TIMEZONE:Europe/Berlin
BEGIN:VEVENT
UID:1@mercedes-v-club.de
DTSTART;TZID=Europe/Berlin;VALUE=DATE:20241003
DTEND;TZID=Europe/Berlin;VALUE=DATE:20241007
DTSTAMP:20251125T052806Z
URL:https://www.mercedes-v-club.de/veranstaltungen/herbsttreffen-2024-ware
 n-mueritz/
SUMMARY:Herbsttreffen 2024
DESCRIPTION:
CATEGORIES:Treffen
LOCATION:Campingplatz "Ecktannen"\,  Fontanestr. 66\, 17192 Waren (Müritz)
 \, Mecklenburg-Vorpommern\, Deutschland
X-APPLE-STRUCTURED-LOCATION;VALUE=URI;X-ADDRESS= Fontanestr. 66\, 17192 War
 en (Müritz)\, Mecklenburg-Vorpommern\, Deutschland;X-APPLE-RADIUS=100;X-T
 ITLE=Campingplatz \"Ecktannen\":geo:0,0
END:VEVENT
BEGIN:VTIMEZONE
TZID:Europe/Berlin
X-LIC-LOCATION:Europe/Berlin
BEGIN:DAYLIGHT
DTSTART:20240331T030000
TZOFFSETFROM:+0100
TZOFFSETTO:+0200
TZNAME:CEST
END:DAYLIGHT
END:VTIMEZONE
END:VCALENDAR