BEGIN:VCALENDAR
VERSION:2.0
PRODID:-//wp-events-plugin.com//7.2.3.1//EN
TZID:Europe/Berlin
X-WR-TIMEZONE:Europe/Berlin
BEGIN:VEVENT
UID:5@mercedes-v-club.de
DTSTART;TZID=Europe/Berlin;VALUE=DATE:20260522
DTEND;TZID=Europe/Berlin;VALUE=DATE:20260526
DTSTAMP:20251113T061135Z
URL:https://www.mercedes-v-club.de/veranstaltungen/gurkentreffen-2026/
SUMMARY:Gurkentreffen 2026
DESCRIPTION:Weitere Infos sind in unserem Forum zu finden:  19. Gurkentreff
 en 2026
CATEGORIES:Treffen
LOCATION:Campingplatz "Am Großen Lausiger Teich"\, Lausiger-Teich-Str. 1\,
  06905 Bad Schmiedeberg\, Sachsen-Anhalt\, Deutschland
X-APPLE-STRUCTURED-LOCATION;VALUE=URI;X-ADDRESS=Lausiger-Teich-Str. 1\, 069
 05 Bad Schmiedeberg\, Sachsen-Anhalt\, Deutschland;X-APPLE-RADIUS=100;X-TI
 TLE=Campingplatz \"Am Großen Lausiger Teich\":geo:0,0
END:VEVENT
BEGIN:VTIMEZONE
TZID:Europe/Berlin
X-LIC-LOCATION:Europe/Berlin
BEGIN:DAYLIGHT
DTSTART:20260329T030000
TZOFFSETFROM:+0100
TZOFFSETTO:+0200
TZNAME:CEST
END:DAYLIGHT
END:VTIMEZONE
END:VCALENDAR